View In:
ArcGIS JavaScript
ArcGIS Online Map Viewer
ArcGIS Earth
ArcMap
View Footprint In:
ArcGIS Online Map Viewer
Service Description: This dataset represents a true-color and near-infrared orthophoto mosaic (4-band) of the Okanagan Lakes study area located in southern British Columbia. The data is projected in UTM11N, the horizontal datum is NAD83(CSRS) 2002 and units are in meters. The acquisition flight parameters were designed to yield a native pixel resolution of less than or equal to 10 cm. The Orthoimagery data was collected on 21/09/16 for the Okanagan Basin Water Board.
Name: Orthos/Orthos_OBWB_Bathymetry_2021
Description: This dataset represents a true-color and near-infrared orthophoto mosaic (4-band) of the Okanagan Lakes study area located in southern British Columbia. The data is projected in UTM11N, the horizontal datum is NAD83(CSRS) 2002 and units are in meters. The acquisition flight parameters were designed to yield a native pixel resolution of less than or equal to 10 cm. The Orthoimagery data was collected on 21/09/16 for the Okanagan Basin Water Board.
Single Fused Map Cache: false
Extent:
XMin: 300598.5
YMin: 5430311.30005072
XMax: 338756.1999870774
YMax: 5580072.000000001
Spatial Reference: 2153
(2955)
LatestVCSWkid(0)
Initial Extent:
XMin: 300598.5
YMin: 5430311.30005072
XMax: 338756.1999870774
YMax: 5580072.000000001
Spatial Reference: 2153
(2955)
LatestVCSWkid(0)
Full Extent:
XMin: 300598.5
YMin: 5430311.30005072
XMax: 338756.1999870774
YMax: 5580072.000000001
Spatial Reference: 2153
(2955)
LatestVCSWkid(0)
Pixel Size X: 0.09999999996613367
Pixel Size Y: 0.0999999999661335
Band Count: 4
Pixel Type: U8
RasterFunction Infos: {"rasterFunctionInfos": [{
"name": "None",
"description": "A No-Op Function.",
"help": ""
}]}
Mensuration Capabilities: None
Has Histograms: true
Has Colormap: false
Has Multi Dimensions : false
Rendering Rule:
Min Scale: 0
Max Scale: 0
Copyright Text: obwb
Service Data Type: esriImageServiceDataTypeGeneric
Min Values: 20, 32, 39, 14
Max Values: 189, 177, 161, 187
Mean Values: 48.04381460943402, 60.82296159375602, 60.31241870336148, 46.57961936058025
Standard Deviation Values: 30.73499388790725, 24.09807091415306, 17.190790533697562, 44.439740918168944
Object ID Field: OBJECTID
Fields:
-
OBJECTID
(
type: esriFieldTypeOID, alias: OBJECTID
)
-
Shape
(
type: esriFieldTypeGeometry, alias: Shape
)
-
Name
(
type: esriFieldTypeString, alias: Name, length: 200
)
-
MinPS
(
type: esriFieldTypeDouble, alias: MinPS
)
-
MaxPS
(
type: esriFieldTypeDouble, alias: MaxPS
)
-
LowPS
(
type: esriFieldTypeDouble, alias: LowPS
)
-
HighPS
(
type: esriFieldTypeDouble, alias: HighPS
)
-
Category
(
type: esriFieldTypeInteger, alias: Category
, Coded Values:
[0: Unknown]
, [1: Primary]
, [2: Overview]
, ...6 more...
)
-
Tag
(
type: esriFieldTypeString, alias: Tag, length: 100
)
-
GroupName
(
type: esriFieldTypeString, alias: GroupName, length: 100
)
-
ProductName
(
type: esriFieldTypeString, alias: ProductName, length: 100
)
-
CenterX
(
type: esriFieldTypeDouble, alias: CenterX
)
-
CenterY
(
type: esriFieldTypeDouble, alias: CenterY
)
-
ZOrder
(
type: esriFieldTypeInteger, alias: ZOrder
)
-
Shape_Length
(
type: esriFieldTypeDouble, alias: Shape_Length
)
-
Shape_Area
(
type: esriFieldTypeDouble, alias: Shape_Area
)
Default Mosaic Method: Northwest
Allowed Mosaic Methods: NorthWest,Center,LockRaster,ByAttribute,Nadir,Viewpoint,Seamline,None
SortField:
SortValue: null
Mosaic Operator: First
Default Compression Quality: 75
Default Resampling Method: Bilinear
Max Record Count: 1000
Max Image Height: 4100
Max Image Width: 15000
Max Download Image Count: 20
Max Mosaic Image Count: 20
Allow Raster Function: true
Allow Copy: true
Allow Analysis: true
Allow Compute TiePoints: false
Supports Statistics: true
Supports Advanced Queries: true
Use StandardizedQueries: true
Raster Type Infos:
Name: Raster Dataset
Description: Supports all ArcGIS Raster Datasets
Help:
Has Raster Attribute Table: false
Edit Fields Info: null
Ownership Based AccessControl For Rasters: null
Child Resources:
Info
Histograms
Statistics
Key Properties
Legend
Raster Function Infos
Supported Operations:
Export Image
Query
Identify
Compute Histograms
Compute Statistics Histograms
Get Samples
Compute Class Statistics
Query Boundary
Compute Pixel Location
Compute Angles
Validate
Project