{
 "currentVersion": 10.91,
 "serviceDescription": "This dataset represents a true-color and near-infrared orthophoto mosaic (4-band) of the Okanagan Lakes study area located in southern British Columbia. The data is projected in UTM11N, the horizontal datum is NAD83(CSRS) 2002 and units are in meters. The acquisition flight parameters were designed to yield a native pixel resolution of less than or equal to 10 cm. The Orthoimagery data was collected on 21/09/16 for the Okanagan Basin Water Board.",
 "name": "Orthos/Orthos_OBWB_Bathymetry_2021",
 "description": "This dataset represents a true-color and near-infrared orthophoto mosaic (4-band) of the Okanagan Lakes study area located in southern British Columbia. The data is projected in UTM11N, the horizontal datum is NAD83(CSRS) 2002 and units are in meters. The acquisition flight parameters were designed to yield a native pixel resolution of less than or equal to 10 cm. The Orthoimagery data was collected on 21/09/16 for the Okanagan Basin Water Board.",
 "extent": {
  "xmin": 300598.5,
  "ymin": 5430311.30005072,
  "xmax": 338756.1999870774,
  "ymax": 5580072.000000001,
  "spatialReference": {
   "wkid": 2153,
   "latestWkid": 2955
  }
 },
 "initialExtent": {
  "xmin": 300598.5,
  "ymin": 5430311.30005072,
  "xmax": 338756.1999870774,
  "ymax": 5580072.000000001,
  "spatialReference": {
   "wkid": 2153,
   "latestWkid": 2955
  }
 },
 "fullExtent": {
  "xmin": 300598.5,
  "ymin": 5430311.30005072,
  "xmax": 338756.1999870774,
  "ymax": 5580072.000000001,
  "spatialReference": {
   "wkid": 2153,
   "latestWkid": 2955
  }
 },
 "hasMultidimensions": false,
 "pixelSizeX": 0.09999999996613367,
 "pixelSizeY": 0.0999999999661335,
 "datasetFormat": "AMD",
 "uncompressedSize": 2285809544956,
 "blockWidth": 2048,
 "blockHeight": 256,
 "compressionType": "None",
 "bandNames": [
  "Band_1",
  "Band_2",
  "Band_3",
  "Band_4"
 ],
 "allowCopy": true,
 "allowAnalysis": true,
 "bandCount": 4,
 "pixelType": "U8",
 "minPixelSize": 0,
 "maxPixelSize": 0,
 "copyrightText": "obwb",
 "serviceDataType": "esriImageServiceDataTypeGeneric",
 "serviceSourceType": "esriImageServiceSourceTypeMosaicDataset",
 "minValues": [
  20,
  32,
  39,
  14
 ],
 "maxValues": [
  189,
  177,
  161,
  187
 ],
 "meanValues": [
  48.04381460943402,
  60.82296159375602,
  60.31241870336148,
  46.57961936058025
 ],
 "stdvValues": [
  30.73499388790725,
  24.09807091415306,
  17.190790533697562,
  44.439740918168944
 ],
 "objectIdField": "OBJECTID",
 "fields": [
  {
   "name": "OBJECTID",
   "type": "esriFieldTypeOID",
   "alias": "OBJECTID",
   "domain": null
  },
  {
   "name": "Shape",
   "type": "esriFieldTypeGeometry",
   "alias": "Shape",
   "domain": null
  },
  {
   "name": "Name",
   "type": "esriFieldTypeString",
   "alias": "Name",
   "domain": null,
   "length": 200
  },
  {
   "name": "MinPS",
   "type": "esriFieldTypeDouble",
   "alias": "MinPS",
   "domain": null
  },
  {
   "name": "MaxPS",
   "type": "esriFieldTypeDouble",
   "alias": "MaxPS",
   "domain": null
  },
  {
   "name": "LowPS",
   "type": "esriFieldTypeDouble",
   "alias": "LowPS",
   "domain": null
  },
  {
   "name": "HighPS",
   "type": "esriFieldTypeDouble",
   "alias": "HighPS",
   "domain": null
  },
  {
   "name": "Category",
   "type": "esriFieldTypeInteger",
   "alias": "Category",
   "domain": {
    "type": "codedValue",
    "name": "MosaicCatalogItemCategoryDomain",
    "description": "Catalog item categories.",
    "codedValues": [
     {
      "name": "Unknown",
      "code": 0
     },
     {
      "name": "Primary",
      "code": 1
     },
     {
      "name": "Overview",
      "code": 2
     },
     {
      "name": "Unprocessed Overview",
      "code": 3
     },
     {
      "name": "Partial Overview",
      "code": 4
     },
     {
      "name": "Inactive",
      "code": 5
     },
     {
      "name": "Uploaded",
      "code": 253
     },
     {
      "name": "Incomplete",
      "code": 254
     },
     {
      "name": "Custom",
      "code": 255
     }
    ],
    "mergePolicy": "esriMPTDefaultValue",
    "splitPolicy": "esriSPTDefaultValue"
   }
  },
  {
   "name": "Tag",
   "type": "esriFieldTypeString",
   "alias": "Tag",
   "domain": null,
   "length": 100
  },
  {
   "name": "GroupName",
   "type": "esriFieldTypeString",
   "alias": "GroupName",
   "domain": null,
   "length": 100
  },
  {
   "name": "ProductName",
   "type": "esriFieldTypeString",
   "alias": "ProductName",
   "domain": null,
   "length": 100
  },
  {
   "name": "CenterX",
   "type": "esriFieldTypeDouble",
   "alias": "CenterX",
   "domain": null
  },
  {
   "name": "CenterY",
   "type": "esriFieldTypeDouble",
   "alias": "CenterY",
   "domain": null
  },
  {
   "name": "ZOrder",
   "type": "esriFieldTypeInteger",
   "alias": "ZOrder",
   "domain": null
  },
  {
   "name": "Shape_Length",
   "type": "esriFieldTypeDouble",
   "alias": "Shape_Length",
   "domain": null
  },
  {
   "name": "Shape_Area",
   "type": "esriFieldTypeDouble",
   "alias": "Shape_Area",
   "domain": null
  }
 ],
 "capabilities": "Catalog,Image,Metadata",
 "defaultMosaicMethod": "Northwest",
 "allowedMosaicMethods": "NorthWest,Center,LockRaster,ByAttribute,Nadir,Viewpoint,Seamline,None",
 "sortField": "",
 "sortValue": null,
 "sortAscending": true,
 "mosaicOperator": "First",
 "maxDownloadSizeLimit": 2048,
 "defaultCompressionQuality": 75,
 "defaultResamplingMethod": "Bilinear",
 "maxImageHeight": 4100,
 "maxImageWidth": 15000,
 "maxRecordCount": 1000,
 "maxDownloadImageCount": 20,
 "maxMosaicImageCount": 20,
 "allowRasterFunction": true,
 "rasterFunctionInfos": [
  {
   "name": "None",
   "description": "A No-Op Function.",
   "help": ""
  }
 ],
 "rasterTypeInfos": [
  {
   "name": "Raster Dataset",
   "description": "Supports all ArcGIS Raster Datasets",
   "help": ""
  }
 ],
 "mensurationCapabilities": "None",
 "hasHistograms": true,
 "hasColormap": false,
 "hasRasterAttributeTable": false,
 "minScale": 0,
 "maxScale": 0,
 "exportTilesAllowed": false,
 "supportsStatistics": true,
 "supportsAdvancedQueries": true,
 "editFieldsInfo": null,
 "ownershipBasedAccessControlForRasters": null,
 "allowComputeTiePoints": false,
 "useStandardizedQueries": true,
 "advancedQueryCapabilities": {
  "useStandardizedQueries": true,
  "supportsStatistics": true,
  "supportsOrderBy": true,
  "supportsDistinct": true,
  "supportsPagination": true
 },
 "spatialReference": {
  "wkid": 2153,
  "latestWkid": 2955
 }
}
