View In:
ArcGIS JavaScript
ArcGIS Online Map Viewer
ArcGIS Earth
ArcMap
View Footprint In:
ArcGIS Online Map Viewer
Service Description: Elevation data from 2018-2019 LiDAR project. Vertical Datum: CGVD2013 (https://www.nrcan.gc.ca/height-reference-system-modernization/9054).
Display Functions for:
user-defined,
Hillshades (degrees 45, 135, 225, 315),
Contours (100m & 20m & 2m intervals),
Elevation Classifications (342.72m & 343.24m)
Name: ElevationSources/RDCO_Elevations_DisplayFunctions
Description: Elevation data from 2018-2019 LiDAR project. Vertical Datum: CGVD2013 (https://www.nrcan.gc.ca/height-reference-system-modernization/9054).
Display Functions for:
user-defined,
Hillshades (degrees 45, 135, 225, 315),
Contours (100m & 20m & 2m intervals),
Elevation Classifications (342.72m & 343.24m)
Single Fused Map Cache: false
Extent:
XMin: 278728.0
YMin: 5502369.0
XMax: 372860.0
YMax: 5571502.0
Spatial Reference: 2153
(2955)
LatestVCSWkid(0)
Initial Extent:
XMin: 278728.0
YMin: 5502369.0
XMax: 372860.0
YMax: 5571502.0
Spatial Reference: 2153
(2955)
LatestVCSWkid(0)
Full Extent:
XMin: 278728.0
YMin: 5502369.0
XMax: 372860.0
YMax: 5571502.0
Spatial Reference: 2153
(2955)
LatestVCSWkid(0)
Pixel Size X: 1.0
Pixel Size Y: 1.0
Band Count: 1
Pixel Type: F32
RasterFunction Infos: {"rasterFunctionInfos": [
{
"name": "Hillshade Az315 Alt45",
"description": "Hillshade\nAzimuth 315\nAltitude 45",
"help": ""
},
{
"name": "None",
"description": "Make a Raster or Raster Dataset into a Function Raster Dataset.",
"help": ""
},
{
"name": "Hillshade Az225 Alt45",
"description": "Hillshade\nAzimuth 225\nAltitude 45",
"help": ""
},
{
"name": "Hillshade Az135 Alt45",
"description": "Hillshade\nAzimuth 135\nAltitude 45",
"help": ""
},
{
"name": "Hillshade Az45 Alt45",
"description": "Hillshade\nAzimuth 45\nAltitude 45",
"help": ""
},
{
"name": "Hillshade Multidirectional",
"description": "Hillshade Multidirectional",
"help": ""
},
{
"name": "Shaded Relief",
"description": "Creates a multiband, color coded, 3D representation of the surface, with the sun's relative position taken into account for shading the image.\nUsing color profile Elevation #12.",
"help": ""
},
{
"name": "Contours 2m",
"description": "Contours 2m, Index 10m",
"help": ""
},
{
"name": "Contours 20m",
"description": "Contours 20m, Index 100m",
"help": ""
},
{
"name": "Contours 100m",
"description": "Contours 100m, Index 500m",
"help": ""
},
{
"name": "Slope",
"description": "Slope degrees",
"help": ""
},
{
"name": "Classify 342p72",
"description": "A raster function template.",
"help": ""
},
{
"name": "Classify 343p24",
"description": "A raster function template.",
"help": ""
}
]}
Mensuration Capabilities:
Has Histograms: true
Has Colormap: false
Has Multi Dimensions : false
Rendering Rule:
Min Scale: 0
Max Scale: 0
Copyright Text: OBWB, GeoBC
Service Data Type: esriImageServiceDataTypeGeneric
Min Values: 340.8399963378906
Max Values: 2172.1201171875
Mean Values: 1142.6529251160684
Standard Deviation Values: 446.6405795878776
Object ID Field: OBJECTID
Fields:
-
OBJECTID
(
type: esriFieldTypeOID, alias: OBJECTID
)
-
Shape
(
type: esriFieldTypeGeometry, alias: Shape
)
-
Name
(
type: esriFieldTypeString, alias: Name, length: 200
)
-
MinPS
(
type: esriFieldTypeDouble, alias: MinPS
)
-
MaxPS
(
type: esriFieldTypeDouble, alias: MaxPS
)
-
LowPS
(
type: esriFieldTypeDouble, alias: LowPS
)
-
HighPS
(
type: esriFieldTypeDouble, alias: HighPS
)
-
Category
(
type: esriFieldTypeInteger, alias: Category
, Coded Values:
[0: Unknown]
, [1: Primary]
, [2: Overview]
, ...6 more...
)
-
Tag
(
type: esriFieldTypeString, alias: Tag, length: 100
)
-
GroupName
(
type: esriFieldTypeString, alias: GroupName, length: 100
)
-
ProductName
(
type: esriFieldTypeString, alias: ProductName, length: 100
)
-
CenterX
(
type: esriFieldTypeDouble, alias: CenterX
)
-
CenterY
(
type: esriFieldTypeDouble, alias: CenterY
)
-
ZOrder
(
type: esriFieldTypeInteger, alias: ZOrder
)
-
Shape_Length
(
type: esriFieldTypeDouble, alias: Shape_Length
)
-
Shape_Area
(
type: esriFieldTypeDouble, alias: Shape_Area
)
Default Mosaic Method: Northwest
Allowed Mosaic Methods: NorthWest,Center,LockRaster,ByAttribute,Nadir,Viewpoint,Seamline,None
SortField:
SortValue: null
Mosaic Operator: First
Default Compression Quality: 75
Default Resampling Method: Bilinear
Max Record Count: 1000
Max Image Height: 4100
Max Image Width: 15000
Max Download Image Count: 20
Max Mosaic Image Count: 20
Allow Raster Function: true
Allow Copy: true
Allow Analysis: true
Allow Compute TiePoints: false
Supports Statistics: true
Supports Advanced Queries: true
Use StandardizedQueries: true
Raster Type Infos:
Name: Raster Dataset
Description: Supports all ArcGIS Raster Datasets
Help:
Has Raster Attribute Table: false
Edit Fields Info: null
Ownership Based AccessControl For Rasters: null
Child Resources:
Info
Histograms
Statistics
Key Properties
Legend
Raster Function Infos
Supported Operations:
Export Image
Query
Identify
Compute Histograms
Compute Statistics Histograms
Get Samples
Compute Class Statistics
Query Boundary
Compute Pixel Location
Compute Angles
Validate
Project