{
 "currentVersion": 10.91,
 "serviceDescription": "Elevation data from 2018-2019 LiDAR project. Vertical Datum: CGVD2013 (https://www.nrcan.gc.ca/height-reference-system-modernization/9054).\nDisplay Functions for:\nuser-defined,\nHillshades (degrees 45, 135, 225, 315),\nContours (100m & 20m & 2m intervals),\nElevation Classifications (342.72m & 343.24m)",
 "name": "ElevationSources/RDCO_Elevations_DisplayFunctions",
 "description": "Elevation data from 2018-2019 LiDAR project. Vertical Datum: CGVD2013 (https://www.nrcan.gc.ca/height-reference-system-modernization/9054).\nDisplay Functions for:\nuser-defined,\nHillshades (degrees 45, 135, 225, 315),\nContours (100m & 20m & 2m intervals),\nElevation Classifications (342.72m & 343.24m)",
 "extent": {
  "xmin": 278728,
  "ymin": 5502369,
  "xmax": 372860,
  "ymax": 5571502,
  "spatialReference": {
   "wkid": 2153,
   "latestWkid": 2955
  }
 },
 "initialExtent": {
  "xmin": 278728,
  "ymin": 5502369,
  "xmax": 372860,
  "ymax": 5571502,
  "spatialReference": {
   "wkid": 2153,
   "latestWkid": 2955
  }
 },
 "fullExtent": {
  "xmin": 278728,
  "ymin": 5502369,
  "xmax": 372860,
  "ymax": 5571502,
  "spatialReference": {
   "wkid": 2153,
   "latestWkid": 2955
  }
 },
 "hasMultidimensions": false,
 "pixelSizeX": 1,
 "pixelSizeY": 1,
 "datasetFormat": "AMD",
 "uncompressedSize": 26030510224,
 "blockWidth": 2048,
 "blockHeight": 256,
 "compressionType": "None",
 "bandNames": [
  "Band_1"
 ],
 "allowCopy": true,
 "allowAnalysis": true,
 "bandCount": 1,
 "pixelType": "F32",
 "minPixelSize": 0,
 "maxPixelSize": 0,
 "copyrightText": "OBWB, GeoBC",
 "serviceDataType": "esriImageServiceDataTypeGeneric",
 "serviceSourceType": "esriImageServiceSourceTypeMosaicDataset",
 "minValues": [
  340.8399963378906
 ],
 "maxValues": [
  2172.1201171875
 ],
 "meanValues": [
  1142.6529251160684
 ],
 "stdvValues": [
  446.6405795878776
 ],
 "objectIdField": "OBJECTID",
 "fields": [
  {
   "name": "OBJECTID",
   "type": "esriFieldTypeOID",
   "alias": "OBJECTID",
   "domain": null
  },
  {
   "name": "Shape",
   "type": "esriFieldTypeGeometry",
   "alias": "Shape",
   "domain": null
  },
  {
   "name": "Name",
   "type": "esriFieldTypeString",
   "alias": "Name",
   "domain": null,
   "length": 200
  },
  {
   "name": "MinPS",
   "type": "esriFieldTypeDouble",
   "alias": "MinPS",
   "domain": null
  },
  {
   "name": "MaxPS",
   "type": "esriFieldTypeDouble",
   "alias": "MaxPS",
   "domain": null
  },
  {
   "name": "LowPS",
   "type": "esriFieldTypeDouble",
   "alias": "LowPS",
   "domain": null
  },
  {
   "name": "HighPS",
   "type": "esriFieldTypeDouble",
   "alias": "HighPS",
   "domain": null
  },
  {
   "name": "Category",
   "type": "esriFieldTypeInteger",
   "alias": "Category",
   "domain": {
    "type": "codedValue",
    "name": "MosaicCatalogItemCategoryDomain",
    "description": "Catalog item categories.",
    "codedValues": [
     {
      "name": "Unknown",
      "code": 0
     },
     {
      "name": "Primary",
      "code": 1
     },
     {
      "name": "Overview",
      "code": 2
     },
     {
      "name": "Unprocessed Overview",
      "code": 3
     },
     {
      "name": "Partial Overview",
      "code": 4
     },
     {
      "name": "Inactive",
      "code": 5
     },
     {
      "name": "Uploaded",
      "code": 253
     },
     {
      "name": "Incomplete",
      "code": 254
     },
     {
      "name": "Custom",
      "code": 255
     }
    ],
    "mergePolicy": "esriMPTDefaultValue",
    "splitPolicy": "esriSPTDefaultValue"
   }
  },
  {
   "name": "Tag",
   "type": "esriFieldTypeString",
   "alias": "Tag",
   "domain": null,
   "length": 100
  },
  {
   "name": "GroupName",
   "type": "esriFieldTypeString",
   "alias": "GroupName",
   "domain": null,
   "length": 100
  },
  {
   "name": "ProductName",
   "type": "esriFieldTypeString",
   "alias": "ProductName",
   "domain": null,
   "length": 100
  },
  {
   "name": "CenterX",
   "type": "esriFieldTypeDouble",
   "alias": "CenterX",
   "domain": null
  },
  {
   "name": "CenterY",
   "type": "esriFieldTypeDouble",
   "alias": "CenterY",
   "domain": null
  },
  {
   "name": "ZOrder",
   "type": "esriFieldTypeInteger",
   "alias": "ZOrder",
   "domain": null
  },
  {
   "name": "Shape_Length",
   "type": "esriFieldTypeDouble",
   "alias": "Shape_Length",
   "domain": null
  },
  {
   "name": "Shape_Area",
   "type": "esriFieldTypeDouble",
   "alias": "Shape_Area",
   "domain": null
  }
 ],
 "capabilities": "Catalog,Image,Metadata",
 "defaultMosaicMethod": "Northwest",
 "allowedMosaicMethods": "NorthWest,Center,LockRaster,ByAttribute,Nadir,Viewpoint,Seamline,None",
 "sortField": "",
 "sortValue": null,
 "sortAscending": true,
 "mosaicOperator": "First",
 "maxDownloadSizeLimit": 2048,
 "defaultCompressionQuality": 75,
 "defaultResamplingMethod": "Bilinear",
 "maxImageHeight": 4100,
 "maxImageWidth": 15000,
 "maxRecordCount": 1000,
 "maxDownloadImageCount": 20,
 "maxMosaicImageCount": 20,
 "allowRasterFunction": true,
 "rasterFunctionInfos": [
  {
   "name": "Hillshade Az315 Alt45",
   "description": "Hillshade\nAzimuth 315\nAltitude 45",
   "help": ""
  },
  {
   "name": "None",
   "description": "Make a Raster or Raster Dataset into a Function Raster Dataset.",
   "help": ""
  },
  {
   "name": "Hillshade Az225 Alt45",
   "description": "Hillshade\nAzimuth 225\nAltitude 45",
   "help": ""
  },
  {
   "name": "Hillshade Az135 Alt45",
   "description": "Hillshade\nAzimuth 135\nAltitude 45",
   "help": ""
  },
  {
   "name": "Hillshade Az45 Alt45",
   "description": "Hillshade\nAzimuth 45\nAltitude 45",
   "help": ""
  },
  {
   "name": "Hillshade Multidirectional",
   "description": "Hillshade Multidirectional",
   "help": ""
  },
  {
   "name": "Shaded Relief",
   "description": "Creates a multiband, color coded, 3D representation of the surface, with the sun's relative position taken into account for shading the image.\nUsing color profile Elevation #12.",
   "help": ""
  },
  {
   "name": "Contours 2m",
   "description": "Contours 2m, Index 10m",
   "help": ""
  },
  {
   "name": "Contours 20m",
   "description": "Contours 20m, Index 100m",
   "help": ""
  },
  {
   "name": "Contours 100m",
   "description": "Contours 100m, Index 500m",
   "help": ""
  },
  {
   "name": "Slope",
   "description": "Slope degrees",
   "help": ""
  },
  {
   "name": "Classify 342p72",
   "description": "A raster function template.",
   "help": ""
  },
  {
   "name": "Classify 343p24",
   "description": "A raster function template.",
   "help": ""
  }
 ],
 "rasterTypeInfos": [
  {
   "name": "Raster Dataset",
   "description": "Supports all ArcGIS Raster Datasets",
   "help": ""
  }
 ],
 "mensurationCapabilities": "",
 "hasHistograms": true,
 "hasColormap": false,
 "hasRasterAttributeTable": false,
 "minScale": 0,
 "maxScale": 0,
 "exportTilesAllowed": false,
 "supportsStatistics": true,
 "supportsAdvancedQueries": true,
 "editFieldsInfo": null,
 "ownershipBasedAccessControlForRasters": null,
 "allowComputeTiePoints": false,
 "useStandardizedQueries": true,
 "advancedQueryCapabilities": {
  "useStandardizedQueries": true,
  "supportsStatistics": true,
  "supportsOrderBy": true,
  "supportsDistinct": true,
  "supportsPagination": true
 },
 "spatialReference": {
  "wkid": 2153,
  "latestWkid": 2955
 }
}
