View In:
ArcGIS JavaScript
ArcGIS Online Map Viewer
ArcGIS Earth
ArcMap
ArcGIS Pro
View Footprint In:
ArcGIS Online Map Viewer
Service Description: <DIV STYLE="text-align:Left;"><DIV><DIV><P><SPAN>2003 - Peachland 2005 - RDCO West, West Kelowna 2006 - RDCO East, Lake Country, Kelowna 2008 - Westbank First Nation, Crystal Mtn</SPAN></P></DIV></DIV></DIV>
Map Name: Orthos_2003_2008
Legend
All Layers and Tables
Dynamic Legend
Dynamic All Layers
Layers:
Description: <DIV STYLE="text-align:Left;"><DIV><DIV><P><SPAN>2003 - Peachland 2005 - RDCO West, West Kelowna 2006 - RDCO East, Lake Country, Kelowna 2008 - Westbank First Nation, Crystal Mtn</SPAN></P></DIV></DIV></DIV>
Copyright Text:
Spatial Reference:
102100
(3857)
LatestVCSWkid(0)
Single Fused Map Cache: true
Tile Info:
- Height: 256
- Width: 256
- DPI: 96
-
Levels of Detail: 21
-
Level ID: 0
[ Start Tile, End Tile ]
- Resolution: 156543.03392800014
- Scale: 5.91657527591555E8
-
Level ID: 1
[ Start Tile, End Tile ]
- Resolution: 78271.51696399994
- Scale: 2.95828763795777E8
-
Level ID: 2
[ Start Tile, End Tile ]
- Resolution: 39135.75848200009
- Scale: 1.47914381897889E8
-
Level ID: 3
[ Start Tile, End Tile ]
- Resolution: 19567.87924099992
- Scale: 7.3957190948944E7
-
Level ID: 4
[ Start Tile, End Tile ]
- Resolution: 9783.93962049996
- Scale: 3.6978595474472E7
-
Level ID: 5
[ Start Tile, End Tile ]
- Resolution: 4891.96981024998
- Scale: 1.8489297737236E7
- Format: MIXED
- Compression Quality: 75.0
- Origin: X: -2.0037508342787E7
Y: 2.0037508342787E7
- Spatial Reference: 102100
(3857)
LatestVCSWkid(0)
Storage Info:
- Storage Format: esriMapCacheStorageModeCompactV2
- Packet Size: 128
Initial Extent:
XMin: -1.3333929371946385E7
YMin: 6403780.467440946
XMax: -1.3267348695225224E7
YMax: 6463690.628979635
Spatial Reference: 102100
(0)
LatestVCSWkid(0)
Full Extent:
XMin: -1.334320050010161E7
YMin: 6400413.794653419
XMax: -1.3251848390913181E7
YMax: 6488333.389388847
Spatial Reference: 102100
(0)
LatestVCSWkid(0)
Units: esriMeters
Supported Image Format Types: PNG32,PNG24,PNG,JPG,DIB,TIFF,EMF,PS,PDF,GIF,SVG,SVGZ,BMP
Document Info:
Title: RDCO_orthos_2003_2008
Author:
Comments: <DIV STYLE="text-align:Left;"><DIV><DIV><P><SPAN>2003 - Peachland 2005 - RDCO West, West Kelowna 2006 - RDCO East, Lake Country, Kelowna 2008 - Westbank First Nation, Crystal Mtn</SPAN></P></DIV></DIV></DIV>
Subject: orthos from 2003 - 2008, full coverage of RDCO and within, see description for specific years
Category:
Keywords: orthos,2003,2005,2006,2008
AntialiasingMode: Fast
TextAntialiasingMode: Force
Supports Dynamic Layers: true
Resampling: false
MaxRecordCount: 2000
MaxImageHeight: 4096
MaxImageWidth: 4096
Supported Query Formats: JSON, geoJSON, PBF
Supports Query Data Elements: true
Min Scale: 577790.554289
Max Scale: 564.248588
Min LOD: 10
Max LOD: 12
Supports Datum Transformation: true
Child Resources:
Info
Dynamic Layer
Supported Operations:
Export Map
Identify
QueryLegends
QueryDomains
Find
Return Updates